BEGIN:VCALENDAR
VERSION:2.0
PRODID:-//ChamberMaster//Event Calendar 2.0//EN
METHOD:PUBLISH
X-PUBLISHED-TTL:P3D
REFRESH-INTERVAL:P3D
CALSCALE:GREGORIAN
BEGIN:VEVENT
DTSTART:20260502T000000Z
DTEND:20260502T030000Z
X-MICROSOFT-CDO-ALLDAYEVENT:FALSE
SUMMARY:Colvin Coven Celebrates: Beltane
DESCRIPTION:Chicago Witches\, join the Colvin Coven in celebrating Beltane! People of every level of practice welcome. Beltane\, or May Day\, is a Pagen festival that celebrates the height of Spring as we transition to summer. Considered by some to be Witch's New Year\, this holiday is all about celebrating love\, connection and renewal. This three hour event will be facilitated by Carol Ludwick. The evening's schedule includes a ceremonial drum circle\, fire pit\, full moon ritual\, tree blessing\, and more! We encourage you to show up on time so that you may enjoy and take part in the full ritual. Whether you're new to witchcraft or have been doing it yourself for years\, this event is a great place to build community\, celebrate the season and manifest new beginnings. Though this is a free event\, tickets will still be required at the door due to limited capacity.
X-ALT-DESC;FMTTYPE=text/html:Chicago Witches\, join the Colvin Coven in celebrating Beltane! People of every level of practice welcome. Beltane\, or May Day\, is a Pagen festival that celebrates the height of Spring as we transition to summer. Considered by some to be Witch&#39\;s New Year\, this holiday is all about celebrating love\, connection and renewal. This three hour event will be facilitated by Carol Ludwick. The evening&#39\;s schedule includes a ceremonial drum circle\, fire pit\, full moon ritual\, tree blessing\, and more! We encourage you to show up on time so that you may enjoy and take part in the full ritual. Whether you&#39\;re new to witchcraft or have been doing it yourself for years\, this event is a great place to build community\, celebrate the season and manifest new beginnings. Though this is a free event\, tickets will still be required at the door due to limited capacity.
LOCATION:5940 N Sheridan Rd Chicago\, IL 60660
UID:e.3672.1172614
SEQUENCE:3
DTSTAMP:20260420T234222Z
URL:https://members.edgewater.org/events/details/colvin-coven-celebrates-beltane-1172614
END:VEVENT

END:VCALENDAR
